BEGIN:VCALENDAR
VERSION:2.0
PRODID:-//KDFB DV Mainz - ECPv6.15.16//NONSGML v1.0//EN
CALSCALE:GREGORIAN
METHOD:PUBLISH
X-WR-CALNAME:KDFB DV Mainz
X-ORIGINAL-URL:https://www.frauenbund-dv-mainz.de
X-WR-CALDESC:Veranstaltungen für KDFB DV Mainz
REFRESH-INTERVAL;VALUE=DURATION:PT1H
X-Robots-Tag:noindex
X-PUBLISHED-TTL:PT1H
BEGIN:VTIMEZONE
TZID:Europe/Berlin
BEGIN:DAYLIGHT
TZOFFSETFROM:+0100
TZOFFSETTO:+0200
TZNAME:CEST
DTSTART:20250330T010000
END:DAYLIGHT
BEGIN:STANDARD
TZOFFSETFROM:+0200
TZOFFSETTO:+0100
TZNAME:CET
DTSTART:20251026T010000
END:STANDARD
BEGIN:DAYLIGHT
TZOFFSETFROM:+0100
TZOFFSETTO:+0200
TZNAME:CEST
DTSTART:20260329T010000
END:DAYLIGHT
BEGIN:STANDARD
TZOFFSETFROM:+0200
TZOFFSETTO:+0100
TZNAME:CET
DTSTART:20261025T010000
END:STANDARD
BEGIN:DAYLIGHT
TZOFFSETFROM:+0100
TZOFFSETTO:+0200
TZNAME:CEST
DTSTART:20270328T010000
END:DAYLIGHT
BEGIN:STANDARD
TZOFFSETFROM:+0200
TZOFFSETTO:+0100
TZNAME:CET
DTSTART:20271031T010000
END:STANDARD
END:VTIMEZONE
BEGIN:VEVENT
DTSTART;TZID=Europe/Berlin:20260429T180000
DTEND;TZID=Europe/Berlin:20260429T180000
DTSTAMP:20260421T105250
CREATED:20260210T154928Z
LAST-MODIFIED:20260210T155819Z
UID:6615-1777485600-1777485600@www.frauenbund-dv-mainz.de
SUMMARY:Tag der Diakonin
DESCRIPTION:Gemeinsame Andacht mit dem  Zweigverein-Herrnsheim \nIm Anschluss gemütliches Beisammensein. \nSeit 1998 veranstaltet der KDFB am 29. April am Gedenktag der Heiligen Katharina von Siena\, den „Tag der Diakonin“. Damit setzt sich der Verband gemeinsam mit der Katholischen Frauenbewegung (kfd)\, dem Netzwerk Diakonat der Frau und dem Zentralkomitee der deutschen Katholiken (ZdK) für die Öffnung des sakramentalen Diakonats für Frauen ein.
URL:https://www.frauenbund-dv-mainz.de/event/tag-der-diakonin-3/
LOCATION:St.Michaelskapelle Worms- Abenheim
CATEGORIES:ZV-Worms-Abenheim,ZV-Worms-Herrnsheim
ATTACH;FMTTYPE=image/jpeg:https://www.frauenbund-dv-mainz.de/wp-content/uploads/2026/02/logo-events-zv-WORMSABENHEIM.jpg
END:VEVENT
BEGIN:VEVENT
DTSTART;TZID=Europe/Berlin:20260509T140000
DTEND;TZID=Europe/Berlin:20260509T140000
DTSTAMP:20260421T105250
CREATED:20260210T155101Z
LAST-MODIFIED:20260210T162155Z
UID:6618-1778335200-1778335200@www.frauenbund-dv-mainz.de
SUMMARY:Besuch der Gedenkstätte KZ Osthofen
DESCRIPTION:Fahrgemeinschaft wird gebildet.\nAnmeldung bis 04.05. bei Maria Kaltenthaler: 06242/3015
URL:https://www.frauenbund-dv-mainz.de/event/besuch-der-gedenkstaette-kz-osthofen/
LOCATION:Osthofen
CATEGORIES:ZV-Worms-Abenheim
ATTACH;FMTTYPE=image/jpeg:https://www.frauenbund-dv-mainz.de/wp-content/uploads/2026/02/logo-events-zv-WORMSABENHEIM.jpg
END:VEVENT
BEGIN:VEVENT
DTSTART;TZID=Europe/Berlin:20260520T170000
DTEND;TZID=Europe/Berlin:20260520T170000
DTSTAMP:20260421T105250
CREATED:20260122T094332Z
LAST-MODIFIED:20260122T094332Z
UID:5902-1779296400-1779296400@www.frauenbund-dv-mainz.de
SUMMARY:Andacht am Roten Kreuz
DESCRIPTION:Andacht am Roten Kreuz mit Pfarrer Hermann-Josef Herd \n  \n 
URL:https://www.frauenbund-dv-mainz.de/event/andacht-am-roten-kreuz/
CATEGORIES:ZV Einhausen
ATTACH;FMTTYPE=image/jpeg:https://www.frauenbund-dv-mainz.de/wp-content/uploads/2026/01/logo-events-zv-einhausen.jpg
END:VEVENT
BEGIN:VEVENT
DTSTART;VALUE=DATE:20260529
DTEND;VALUE=DATE:20260601
DTSTAMP:20260421T105250
CREATED:20260210T155219Z
LAST-MODIFIED:20260210T162350Z
UID:6621-1780012800-1780271999@www.frauenbund-dv-mainz.de
SUMMARY:Pilgern auf dem Jakobsweg Main- und Taubertal
DESCRIPTION:Information: Gabi Hemer 0176 50903722\nNatur und Neues erleben\, in Gemeinschaft wandern\, schweigen\, lachen\, singen erzählen\, innehalten\, genießen …
URL:https://www.frauenbund-dv-mainz.de/event/pilgern-auf-dem-jakobsweg-main-und-taubertal/
CATEGORIES:Termine
ATTACH;FMTTYPE=image/jpeg:https://www.frauenbund-dv-mainz.de/wp-content/uploads/2026/01/logo-events-dv-mainz.jpg
END:VEVENT
BEGIN:VEVENT
DTSTART;TZID=Europe/Berlin:20260611T193000
DTEND;TZID=Europe/Berlin:20260611T193000
DTSTAMP:20260421T105250
CREATED:20260210T155330Z
LAST-MODIFIED:20260210T162212Z
UID:6623-1781206200-1781206200@www.frauenbund-dv-mainz.de
SUMMARY:Sexuelle Belästigung\, Sextortion\, Cypergrooming – Kinder und  Jugendliche vor sexualisierter Gewalt im Netz schützen
DESCRIPTION:Rebecca Michl-Krauß ist Referentin für Medienkompetenz bei der EU-Initiative klicksafe und der Medienanstalt Rheinland-Pfalz \nAnmeldung bis 07.06. bei M. Kaltenthaler Tel. 06242/3015 oder per mail Info@ frauenbund-abenheim.de
URL:https://www.frauenbund-dv-mainz.de/event/sexuelle-belaestigung-sextortion-cypergrooming-kinder-und-jugendliche-vor-sexualisierter-gewalt-im-netz-schuetzen/
LOCATION:Pfarrzentrum Wo-Abenheim\, An der Kirche 2\, Worms\, 67550\, Deutschland
CATEGORIES:ZV-Worms-Abenheim
ATTACH;FMTTYPE=image/jpeg:https://www.frauenbund-dv-mainz.de/wp-content/uploads/2026/02/logo-events-zv-WORMSABENHEIM.jpg
END:VEVENT
BEGIN:VEVENT
DTSTART;TZID=Europe/Berlin:20260618T180000
DTEND;TZID=Europe/Berlin:20260618T180000
DTSTAMP:20260421T105250
CREATED:20260210T162603Z
LAST-MODIFIED:20260210T162603Z
UID:6662-1781805600-1781805600@www.frauenbund-dv-mainz.de
SUMMARY:Sommerfest
DESCRIPTION:Unsere Mitglieder sind eingeladen in schöner Atmosphäre ein paar gemütliche Stunden zu verbringen.\nAnmeldung bis 11.06. bei Maria Kaltenthaler 06242/3015 oder Gabi Hemer 0176 50903722
URL:https://www.frauenbund-dv-mainz.de/event/sommerfest/
LOCATION:Weingut Boxheimerhof\,  Worms-Abenheim
CATEGORIES:ZV-Worms-Abenheim
ATTACH;FMTTYPE=image/jpeg:https://www.frauenbund-dv-mainz.de/wp-content/uploads/2026/02/logo-events-zv-WORMSABENHEIM.jpg
END:VEVENT
BEGIN:VEVENT
DTSTART;VALUE=DATE:20260630
DTEND;VALUE=DATE:20260701
DTSTAMP:20260421T105250
CREATED:20260122T094418Z
LAST-MODIFIED:20260122T094418Z
UID:5904-1782777600-1782863999@www.frauenbund-dv-mainz.de
SUMMARY:Tagesfahrt nach Unterreichenbach/Nordschwarzwald
DESCRIPTION:mit Besuch des Flößermuseums u.a. \nNähere Infos folgen
URL:https://www.frauenbund-dv-mainz.de/event/tagesfahrt-nach-unterreichenbach-nordschwarzwald/
CATEGORIES:ZV Einhausen
ATTACH;FMTTYPE=image/jpeg:https://www.frauenbund-dv-mainz.de/wp-content/uploads/2026/01/logo-events-zv-einhausen.jpg
END:VEVENT
BEGIN:VEVENT
DTSTART;TZID=Europe/Berlin:20260814T180000
DTEND;TZID=Europe/Berlin:20260814T180000
DTSTAMP:20260421T105250
CREATED:20260122T094521Z
LAST-MODIFIED:20260122T094521Z
UID:5906-1786730400-1786730400@www.frauenbund-dv-mainz.de
SUMMARY:Radtour mit Picknick
DESCRIPTION:Einstimmung zum Wochenende
URL:https://www.frauenbund-dv-mainz.de/event/radtour-mit-picknick/
CATEGORIES:ZV Einhausen
ATTACH;FMTTYPE=image/jpeg:https://www.frauenbund-dv-mainz.de/wp-content/uploads/2026/01/logo-events-zv-einhausen.jpg
END:VEVENT
BEGIN:VEVENT
DTSTART;TZID=Europe/Berlin:20260905T073000
DTEND;TZID=Europe/Berlin:20260905T190000
DTSTAMP:20260421T105250
CREATED:20260210T162728Z
LAST-MODIFIED:20260210T162744Z
UID:6665-1788593400-1788634800@www.frauenbund-dv-mainz.de
SUMMARY:Bildungsfahrt nach Wissembourg
DESCRIPTION:Nähere Informationen und Anmeldung bei Maria Kaltenthaler 06242/3015 oder Gabi Hemer 0176 50903722
URL:https://www.frauenbund-dv-mainz.de/event/bildungsfahrt-nach-wissembourg/
CATEGORIES:ZV-Worms-Abenheim
ATTACH;FMTTYPE=image/jpeg:https://www.frauenbund-dv-mainz.de/wp-content/uploads/2026/02/logo-events-zv-WORMSABENHEIM.jpg
END:VEVENT
BEGIN:VEVENT
DTSTART;TZID=Europe/Berlin:20260918T190000
DTEND;TZID=Europe/Berlin:20260918T190000
DTSTAMP:20260421T105250
CREATED:20260210T162926Z
LAST-MODIFIED:20260210T162926Z
UID:6667-1789758000-1789758000@www.frauenbund-dv-mainz.de
SUMMARY:Frauen und Literatur - Lesenacht
DESCRIPTION:Ein unterhaltsamer Abend mit lesen\, singen und bewegen\, der mit einem gemeinsamen Essen beginnt. \nInformation und Anmeldung bis 13.09. bei Gabi Hemer 0176 50903722 oder per mail info@frauenbund-abenheim.de
URL:https://www.frauenbund-dv-mainz.de/event/frauen-und-literatur-lesenacht/
LOCATION:Pfarrzentrum Worms-Abenheim
CATEGORIES:ZV-Worms-Abenheim
ATTACH;FMTTYPE=image/jpeg:https://www.frauenbund-dv-mainz.de/wp-content/uploads/2026/02/logo-events-zv-WORMSABENHEIM.jpg
END:VEVENT
BEGIN:VEVENT
DTSTART;TZID=Europe/Berlin:20261015T170000
DTEND;TZID=Europe/Berlin:20261015T170000
DTSTAMP:20260421T105250
CREATED:20260122T094609Z
LAST-MODIFIED:20260122T094609Z
UID:5908-1792083600-1792083600@www.frauenbund-dv-mainz.de
SUMMARY:Gebetszeit und Herbstfest
DESCRIPTION:Gebetszeit St. Michael anschl. \nHerbstfest im Pfarrzentrum
URL:https://www.frauenbund-dv-mainz.de/event/gebetszeit-und-herbstfest/
CATEGORIES:ZV Einhausen
ATTACH;FMTTYPE=image/jpeg:https://www.frauenbund-dv-mainz.de/wp-content/uploads/2026/01/logo-events-zv-einhausen.jpg
END:VEVENT
BEGIN:VEVENT
DTSTART;TZID=Europe/Berlin:20261022T190000
DTEND;TZID=Europe/Berlin:20261022T190000
DTSTAMP:20260421T105250
CREATED:20260210T163049Z
LAST-MODIFIED:20260210T163049Z
UID:6669-1792695600-1792695600@www.frauenbund-dv-mainz.de
SUMMARY:Jahreshauptversammlung ZV Worms-Abenheim
DESCRIPTION:mit neuem Wein und Zwiebelkuchen \nOrt: Weingut Hemer
URL:https://www.frauenbund-dv-mainz.de/event/jahreshauptversammlung-zv-worms-abenheim/
CATEGORIES:ZV-Worms-Abenheim
ATTACH;FMTTYPE=image/jpeg:https://www.frauenbund-dv-mainz.de/wp-content/uploads/2026/02/logo-events-zv-WORMSABENHEIM.jpg
END:VEVENT
BEGIN:VEVENT
DTSTART;TZID=Europe/Berlin:20261203T190000
DTEND;TZID=Europe/Berlin:20261203T190000
DTSTAMP:20260421T105250
CREATED:20260129T183856Z
LAST-MODIFIED:20260210T155927Z
UID:6545-1796324400-1796324400@www.frauenbund-dv-mainz.de
SUMMARY:Adventsfeier - ZV Abenheim
DESCRIPTION:Für alle Mitglieder
URL:https://www.frauenbund-dv-mainz.de/event/adventsfeier-zv-abenheim/
LOCATION:Pfarrzentrum Worms-Abenheim
CATEGORIES:ZV-Worms-Abenheim
ATTACH;FMTTYPE=image/jpeg:https://www.frauenbund-dv-mainz.de/wp-content/uploads/2026/02/logo-events-zv-WORMSABENHEIM.jpg
END:VEVENT
BEGIN:VEVENT
DTSTART;TZID=Europe/Berlin:20261210T170000
DTEND;TZID=Europe/Berlin:20261210T170000
DTSTAMP:20260421T105250
CREATED:20260122T094653Z
LAST-MODIFIED:20260122T094653Z
UID:5910-1796922000-1796922000@www.frauenbund-dv-mainz.de
SUMMARY:Adventsfeier ZV Einhausen
DESCRIPTION:im Pfarrzentrum
URL:https://www.frauenbund-dv-mainz.de/event/adventsfeier-zv-einhausen/
CATEGORIES:ZV Einhausen
ATTACH;FMTTYPE=image/jpeg:https://www.frauenbund-dv-mainz.de/wp-content/uploads/2026/01/logo-events-zv-einhausen.jpg
END:VEVENT
BEGIN:VEVENT
DTSTART;VALUE=DATE:20261211
DTEND;VALUE=DATE:20261212
DTSTAMP:20260421T105250
CREATED:20260129T184002Z
LAST-MODIFIED:20260210T155842Z
UID:6547-1796947200-1797033599@www.frauenbund-dv-mainz.de
SUMMARY:Haas Puppenbühne geht  auf Wintertour! - ZV Abenheim
DESCRIPTION:In Kooperation mit der kath.Bücherei Abenheim \nNähere Informationen werden noch bekannt gegeben.
URL:https://www.frauenbund-dv-mainz.de/event/haas-puppenbuehne-geht-auf-wintertour-zv-abenheim/
LOCATION:Pfarrzentrum Worms-Abenheim
CATEGORIES:ZV-Worms-Abenheim
ATTACH;FMTTYPE=image/jpeg:https://www.frauenbund-dv-mainz.de/wp-content/uploads/2026/02/logo-events-zv-WORMSABENHEIM.jpg
END:VEVENT
END:VCALENDAR